BEGIN:VCALENDAR
PRODID:-//eluceo/ical//2.0/EN
VERSION:2.0
CALSCALE:GREGORIAN
BEGIN:VEVENT
UID:f7ab18a822ce58dbbe41ec808c16279a
DTSTAMP:20260422T214611Z
SUMMARY:herms-paris-swiss-made-nl01210836427 - Date de vente : 08/11/2013
DESCRIPTION:Nom du lots : HERMÈS Paris Swiss made n°L01.210/836427\n\nMon
 tre "Clic Clac" en métal doré\, cadran or\, mouvement quartz\, bracelet 
 en cuir rouge façon lézard
DTSTART;VALUE=DATE:20131108
END:VEVENT
END:VCALENDAR
