BEGIN:VCALENDAR
PRODID:-//eluceo/ical//2.0/EN
VERSION:2.0
CALSCALE:GREGORIAN
BEGIN:VEVENT
UID:b07a0950ee40b9189fcab7ea49aa06b6
DTSTAMP:20260422T213142Z
SUMMARY:herms-paris-made-in-france - Date de vente : 08/11/2013
DESCRIPTION:Nom du lots : HERMÈS Paris made in France\n\nSac "Trim" en cui
 r grené marron\, fermeture éclair\, fermoir mousqueton en laiton doré s
 ur languette\, demi anse bandoulière réglable. Bon état (légères usur
 es)
DTSTART;VALUE=DATE:20131108
END:VEVENT
END:VCALENDAR
