BEGIN:VCALENDAR
PRODID:-//eluceo/ical//2.0/EN
VERSION:2.0
CALSCALE:GREGORIAN
BEGIN:VEVENT
UID:3a7bd69f9c9598379928066005078d8e
DTSTAMP:20260422T213451Z
SUMMARY:louis-vuitton-1896-1996-dition-centenaire-n2037 - Date de vente : 0
 8/11/2013
DESCRIPTION:Nom du lots : Louis VUITTON 1896 - 1996 Édition centenaire n°
 2037\n\nSac à dos "Soho" en toile damier marron et cuir naturel. Fermetur
 e ceinture sur rabat\, poignée double sangle réglable dans le dos. (Lég
 ères tâches sur le cuir). Bon état
DTSTART;VALUE=DATE:20131108
END:VEVENT
END:VCALENDAR
