BEGIN:VCALENDAR
PRODID:-//eluceo/ical//2.0/EN
VERSION:2.0
CALSCALE:GREGORIAN
BEGIN:VEVENT
UID:15de569a05c72df8e8dd57ee00705677
DTSTAMP:20260422T214611Z
SUMMARY:herms-paris-swiss-made-n728554 - Date de vente : 08/11/2013
DESCRIPTION:Nom du lots : HERMÈS Paris swiss made n°728554\n\nMontre "Kel
 ly" plaqué or\, cadran noir\, mouvement quartz\, bracelet en cuir grené 
 noir
DTSTART;VALUE=DATE:20131108
END:VEVENT
END:VCALENDAR
