BEGIN:VCALENDAR
PRODID:-//eluceo/ical//2.0/EN
VERSION:2.0
CALSCALE:GREGORIAN
BEGIN:VEVENT
UID:f13ca415fc1a344a2a558f2f502b7337
DTSTAMP:20260422T213355Z
SUMMARY:herms-paris-amde-in-france - Date de vente : 08/11/2013
DESCRIPTION:Nom du lots : HERMÈS Paris amde in France\n\nBracelet "Médor"
  en crocodile bleu jean agrémenté d’un clou en métal doré\, fermetur
 e pression. Longueur: 16 cm. Très bon état
DTSTART;VALUE=DATE:20131108
END:VEVENT
END:VCALENDAR
