BEGIN:VCALENDAR
PRODID:-//eluceo/ical//2.0/EN
VERSION:2.0
CALSCALE:GREGORIAN
BEGIN:VEVENT
UID:1f793dfe6e86a1d59659072500bf6fc7
DTSTAMP:20260422T214518Z
SUMMARY:yves-saint-laurent-rive-gauche - Date de vente : 08/11/2013
DESCRIPTION:Nom du lots : Yves Saint LAURENT rive gauche\n\nSac "Muse" 37 c
 m en daim anthracite façon reptile\, fermoir clip en acier chromé sur ra
 bat\, poignée\, poche extérieure. Bon état (très légère usure à un 
 coin)
DTSTART;VALUE=DATE:20131108
END:VEVENT
END:VCALENDAR
