BEGIN:VCALENDAR
PRODID:-//eluceo/ical//2.0/EN
VERSION:2.0
CALSCALE:GREGORIAN
BEGIN:VEVENT
UID:1f92bff3394d8168ed8f9d8259fb1212
DTSTAMP:20260422T211819Z
SUMMARY:bottega-veneta - Date de vente : 08/11/2013
DESCRIPTION:Nom du lots : Bottega VENETA\n\nSac 20 cm en cuir tressé coqui
 lle d’oeuf\, demi anse bandoulière. Bon état (légères égrenures et 
 tâches sur le cuir)
DTSTART;VALUE=DATE:20131108
END:VEVENT
END:VCALENDAR
