BEGIN:VCALENDAR
PRODID:-//eluceo/ical//2.0/EN
VERSION:2.0
CALSCALE:GREGORIAN
BEGIN:VEVENT
UID:104671e7448ad51bc7f8eac36c228053
DTSTAMP:20260422T212447Z
SUMMARY:bally - Date de vente : 08/11/2013
DESCRIPTION:Nom du lots : BALLY\n\nSac 46 cm en toile noir\, fermeture écl
 air\, sangle et double poignée bicolore\, anse bandoulière. Très bon é
 tat
DTSTART;VALUE=DATE:20131108
END:VEVENT
END:VCALENDAR
