BEGIN:VCALENDAR
PRODID:-//eluceo/ical//2.0/EN
VERSION:2.0
CALSCALE:GREGORIAN
BEGIN:VEVENT
UID:5487c35e01b9e555a3ded8a938521c35
DTSTAMP:20260422T214426Z
SUMMARY:herms-paris-anne2003 - Date de vente : 08/11/2013
DESCRIPTION:Nom du lots : HERMÈS Paris année2003\n\nPorte-clef en palladi
 um titré "Année de la Méditerranée"\, gravé des pays l’entourant
DTSTART;VALUE=DATE:20131108
END:VEVENT
END:VCALENDAR
