BEGIN:VCALENDAR
PRODID:-//eluceo/ical//2.0/EN
VERSION:2.0
CALSCALE:GREGORIAN
BEGIN:VEVENT
UID:3783c86e863bfb0b0f72fe22267758b6
DTSTAMP:20260422T214243Z
SUMMARY:louis-vuitton - Date de vente : 08/11/2013
DESCRIPTION:Nom du lots : Louis VUITTON\n\nSac "L’Aimable" en cuir Suhali
  argent rehaussé de clous\, fermeture cadenas sur rabat\, poignée. Bon 
 état (accident à l’intérieur\, tâches à la base)
DTSTART;VALUE=DATE:20131108
END:VEVENT
END:VCALENDAR
