BEGIN:VCALENDAR
PRODID:-//eluceo/ical//2.0/EN
VERSION:2.0
CALSCALE:GREGORIAN
BEGIN:VEVENT
UID:9d5acfaac99bc4041cf5882cbbf353cc
DTSTAMP:20260422T212904Z
SUMMARY:salvatore-ferragamo - Date de vente : 08/11/2013
DESCRIPTION:Nom du lots : Salvatore FERRAGAMO\n\nSac 26 cm en vachette faç
 on poulain à tâches marron et grises\, fermeture pression aimantée sur 
 rabat\, anse bandoulière réglable. Très bon état
DTSTART;VALUE=DATE:20131108
END:VEVENT
END:VCALENDAR
