BEGIN:VCALENDAR
PRODID:-//eluceo/ical//2.0/EN
VERSION:2.0
CALSCALE:GREGORIAN
BEGIN:VEVENT
UID:131d69d9f43c845e240bdcda2db94897
DTSTAMP:20260422T232839Z
SUMMARY:gucci - Date de vente : 08/11/2013
DESCRIPTION:Nom du lots : GUCCI\n\nSac besace 20 cm en cuir noir\, et cuir 
 façon crocodile\, anse bandoulière réglable\, poche extérieure. Bon é
 tat
DTSTART;VALUE=DATE:20131108
END:VEVENT
END:VCALENDAR
