BEGIN:VCALENDAR
PRODID:-//eluceo/ical//2.0/EN
VERSION:2.0
CALSCALE:GREGORIAN
BEGIN:VEVENT
UID:da88a474227a2685afabebae9ce17216
DTSTAMP:20260422T232657Z
SUMMARY:fendi - Date de vente : 08/11/2013
DESCRIPTION:Nom du lots : FENDI\n\nMini sac boîte en toile siglée et cuir
  marine\, fermeture pression aimantée sur languette siglée\, poignée. B
 on état (légères égrenures)
DTSTART;VALUE=DATE:20131108
END:VEVENT
END:VCALENDAR
