BEGIN:VCALENDAR
PRODID:-//eluceo/ical//2.0/EN
VERSION:2.0
CALSCALE:GREGORIAN
BEGIN:VEVENT
UID:79654fcedaefa0f5424fc07a11c2cc1d
DTSTAMP:20260422T233325Z
SUMMARY:louis-vuitton-par-murakami - Date de vente : 08/11/2013
DESCRIPTION:Nom du lots : Louis VUITTON Par Murakami\n\nÉtui de ceinture p
 our Ipod en toile blanche et mini monogram multicolore\, fermeture sur pre
 ssion. Très bon état
DTSTART;VALUE=DATE:20131108
END:VEVENT
END:VCALENDAR
