BEGIN:VCALENDAR
PRODID:-//eluceo/ical//2.0/EN
VERSION:2.0
CALSCALE:GREGORIAN
BEGIN:VEVENT
UID:7e7077f15c476f219477e82e9254baa9
DTSTAMP:20260422T232651Z
SUMMARY:celine - Date de vente : 08/11/2013
DESCRIPTION:Nom du lots : CELINE\n\nSacoche 27 cm en toile noir et marron s
 iglé\, fermeture éclair\, poignée\, deux poches extérieures zippées\,
  anse bandoulière. Très bon état
DTSTART;VALUE=DATE:20131108
END:VEVENT
END:VCALENDAR
