BEGIN:VCALENDAR
PRODID:-//eluceo/ical//2.0/EN
VERSION:2.0
CALSCALE:GREGORIAN
BEGIN:VEVENT
UID:1e2984440fb0713bcdb170d3807dac80
DTSTAMP:20260422T232852Z
SUMMARY:chrome-hearts - Date de vente : 08/11/2013
DESCRIPTION:Nom du lots : CHROME HEARTS\n\nBague en argent ciselé figurant
  des feuilles d’acanthe. Poids: 12\,0 grs environ. T. 50
DTSTART;VALUE=DATE:20131108
END:VEVENT
END:VCALENDAR
