BEGIN:VCALENDAR
PRODID:-//eluceo/ical//2.0/EN
VERSION:2.0
CALSCALE:GREGORIAN
BEGIN:VEVENT
UID:b3becf92a937bc0dc671d4413d4d493f
DTSTAMP:20260422T232942Z
SUMMARY:chanel-paris - Date de vente : 08/11/2013
DESCRIPTION:Nom du lots : CHANEL Paris\n\nLot de deux cravates en soie impr
 imée\; l’une siglée marron\, agrémentée de chaînes imprimée\; l’
 autre à rayures bleu roi
DTSTART;VALUE=DATE:20131108
END:VEVENT
END:VCALENDAR
