BEGIN:VCALENDAR
PRODID:-//eluceo/ical//2.0/EN
VERSION:2.0
CALSCALE:GREGORIAN
BEGIN:VEVENT
UID:9c94ed56011929202d2e9db87c4218d5
DTSTAMP:20260423T052037Z
SUMMARY:hermes-paris - Date de vente : 02/12/2013
DESCRIPTION:Nom du lots : HERMES Paris\n\nSac "Kelly" 33 cm en crocodile é
 trusque\, attaches fermoir plaqué or\, clefs\, cadenas recouvert\, poign
 ée. (Usures à la base et à la poignée). Ce lot a été confectionné d
 ans des parties d’espèces de crocodylidaes spp classées aux Annexes II
 /B de la convention de Washington et de la Règle 338/97 du CE 9/12/1996).
  Pour une sortie de l’UE un CITES d’export sera nécessaire celui-ci 
 étant à la charge du futur acquéreur.
DTSTART;VALUE=DATE:20131202
END:VEVENT
END:VCALENDAR
