BEGIN:VCALENDAR
PRODID:-//eluceo/ical//2.0/EN
VERSION:2.0
CALSCALE:GREGORIAN
BEGIN:VEVENT
UID:783b3dcfa81fd29d4958d802eb24b250
DTSTAMP:20260423T052200Z
SUMMARY:hermes-paris-swiss-made - Date de vente : 02/12/2013
DESCRIPTION:Nom du lots : HERMES Paris Swiss made\n\nN°DR1.770/1999327 ann
 ée 2003 Anniversaire des 75 ans de la montre Hermès\, édition limitée.
  Exceptionnelle montre "Dressage" en or rose brossé\, cadran en nacre\, c
 hiffres arabes\, dateur à trois heure\, trotteuse\, boîtier au dos squel
 ette\, mouvement automatique Vaucher\, bracelet réglable en crocodile mar
 ron sur boucle déployante en or rose. Longueur: 18cm.
DTSTART;VALUE=DATE:20131202
END:VEVENT
END:VCALENDAR
