BEGIN:VCALENDAR
PRODID:-//eluceo/ical//2.0/EN
VERSION:2.0
CALSCALE:GREGORIAN
BEGIN:VEVENT
UID:568c0a673351d8c3b7a6f723e0cb8ba4
DTSTAMP:20260423T052426Z
SUMMARY:hermes-paris-made-in-france - Date de vente : 02/12/2013
DESCRIPTION:Nom du lots : HERMES Paris made in France\n\nMini sac "Kelly" 2
 0cm en crocodile porosus noir\, attaches et fermoir plaqué or\, pivot et 
 cadenas sertis de brillants\, poignée\, clefs. Très bon état (très lé
 gères usures aux coins). Ce lot a été confectionné dans des parties d
 ’espèces de crocodylidaes spp classées aux Annexes II/B de la conventi
 on de Washington et de la Règle 338/97 du CE 9/12/1996). Pour une sortie 
 de l’UE un CITES d’export sera nécessaire celui-ci étant à la charg
 e du futur acquéreur.
DTSTART;VALUE=DATE:20131202
END:VEVENT
END:VCALENDAR
