BEGIN:VCALENDAR
PRODID:-//eluceo/ical//2.0/EN
VERSION:2.0
CALSCALE:GREGORIAN
BEGIN:VEVENT
UID:a3265bc16a12de9881856ced52d675c2
DTSTAMP:20260423T052424Z
SUMMARY:hermes-paris-made-in-france-par-jean-paul-gaultier-anne-2009 - Date
  de vente : 02/12/2013
DESCRIPTION:Nom du lots : HERMES Paris made in France par Jean Paul GAULTIE
 R année 2009\n\nSac "Birkin shadow" 40cm en veau swift marron\, pattes de
  serrage sur pressions\, double poignée à effets de trompe l’oeil. Bon
  état\, édition limitée.
DTSTART;VALUE=DATE:20131202
END:VEVENT
END:VCALENDAR
