BEGIN:VCALENDAR
PRODID:-//eluceo/ical//2.0/EN
VERSION:2.0
CALSCALE:GREGORIAN
BEGIN:VEVENT
UID:741848c74eba0aa4a2e3945bd1738a6a
DTSTAMP:20260423T140351Z
SUMMARY:sergio-rossi - Date de vente : 10/12/2012
DESCRIPTION:Nom du lots : Sergio ROSSI\n\nSac en composite imprimé noir à
  motifs abstraits sur fond rouge et gansé de cuir\, fermeture éclair asy
 métrique sur une poche\, demi anse bandoulière se continuant dans la for
 me
DTSTART;VALUE=DATE:20121210
END:VEVENT
END:VCALENDAR
