BEGIN:VCALENDAR
PRODID:-//eluceo/ical//2.0/EN
VERSION:2.0
CALSCALE:GREGORIAN
BEGIN:VEVENT
UID:bb9aa728fdbb2457cfd2b27d20d5c095
DTSTAMP:20260423T154324Z
SUMMARY:chanel-circa-2003 - Date de vente : 10/12/2012
DESCRIPTION:Nom du lots : CHANEL Circa 2003\n\nRobe longue à bretelles en 
 soie noir\, longueur asymétrique gansé de morceaux de vison se porte ave
 c un gilet à l’identique d’inspiration 1910-1915
DTSTART;VALUE=DATE:20121210
END:VEVENT
END:VCALENDAR
