BEGIN:VCALENDAR
PRODID:-//eluceo/ical//2.0/EN
VERSION:2.0
CALSCALE:GREGORIAN
BEGIN:VEVENT
UID:131a4428707d3a6854ec8e7d12ccc00f
DTSTAMP:20260423T153944Z
SUMMARY:gercault - Date de vente : 10/12/2012
DESCRIPTION:Nom du lots : GERCAULT\n\nSac de voyage 55cm en patchwork de Re
 nard lustré et cuir marron\, fermeture éclair\, double poignée\, anse b
 andoulière. Très bon état
DTSTART;VALUE=DATE:20121210
END:VEVENT
END:VCALENDAR
