BEGIN:VCALENDAR
PRODID:-//eluceo/ical//2.0/EN
VERSION:2.0
CALSCALE:GREGORIAN
BEGIN:VEVENT
UID:ed427b70e5608803874310414bfd369f
DTSTAMP:20260423T154416Z
SUMMARY:louis-vuitton-par-murakami - Date de vente : 10/12/2012
DESCRIPTION:Nom du lots : Louis VUITTON par Murakami\n\nSac «Plat» en toi
 le monogram et cerise\, double poignée en cuir naturel. Très bon état
DTSTART;VALUE=DATE:20121210
END:VEVENT
END:VCALENDAR
