BEGIN:VCALENDAR
PRODID:-//eluceo/ical//2.0/EN
VERSION:2.0
CALSCALE:GREGORIAN
BEGIN:VEVENT
UID:a7798aca77195490311561945923e736
DTSTAMP:20260423T154032Z
SUMMARY:chanel - Date de vente : 10/12/2012
DESCRIPTION:Nom du lots : CHANEL\n\nSac «Star attitude» en cuir agneau so
 uple matelassé 34 cm\, chaque losange ornée de rivet strassé\, fermetur
 e éclair\, demi-anse bandoulière. Très bon état
DTSTART;VALUE=DATE:20121210
END:VEVENT
END:VCALENDAR
