BEGIN:VCALENDAR
PRODID:-//eluceo/ical//2.0/EN
VERSION:2.0
CALSCALE:GREGORIAN
BEGIN:VEVENT
UID:e3735b90f9a77e051fdd84991b964aca
DTSTAMP:20260423T154222Z
SUMMARY:hermes-paris - Date de vente : 10/12/2012
DESCRIPTION:Nom du lots : HERMES Paris\n\nSac Martine en crocodile porsosus
  noir\, fermoir en métal argenté\, anse bandoulière réglable. Bon éta
 t (Ce lot a été confectionné dans les parties d’espéces de crocodyli
 daes spp classées aux Annexes II/B de la Convention de Washington et de l
 a règle 338/97 du 9/12/1996.) Pour une sortie de l’UE un CITES d’expo
 rt sera nécessaire celui-ci étant à la charge du futur acquéreur
DTSTART;VALUE=DATE:20121210
END:VEVENT
END:VCALENDAR
