BEGIN:VCALENDAR
PRODID:-//eluceo/ical//2.0/EN
VERSION:2.0
CALSCALE:GREGORIAN
BEGIN:VEVENT
UID:3e4a2cb5e00d64e18e5aee38092849eb
DTSTAMP:20260423T154627Z
SUMMARY:exceptionnel-manteau-reversible-en-envers - Date de vente : 10/12/2
 012
DESCRIPTION:Nom du lots : Exceptionnel manteau reversible en envers...\n\nE
 xceptionnel manteau reversible en envers daim vert et Zibeline brune Bargo
 usine persillée de Russie\, travail horizontal sur intercalaires d’agne
 au velours noir surpiqué de lurex argent
DTSTART;VALUE=DATE:20121210
END:VEVENT
END:VCALENDAR
