BEGIN:VCALENDAR
PRODID:-//eluceo/ical//2.0/EN
VERSION:2.0
CALSCALE:GREGORIAN
BEGIN:VEVENT
UID:23ab16bec6a36b7ec4af5d013ef35f53
DTSTAMP:20260423T154718Z
SUMMARY:hermes-paris-made-in-france - Date de vente : 10/12/2012
DESCRIPTION:Nom du lots : HERMES Paris made in France\n\n*Sac "Birkin" 35 c
 m en crocodile porosus marron mat\, attaches fermoir palladium\, double po
 ignée\, clefs\, cadenas recouvert. Année 2000. Très bon état(Ce lot a 
 été confectionnés dans des parties d’espèces de crocodylidaes spp cl
 assées aux annexes II/B de la Convention de Washington et de la Regle 338
 /97 du CE 9/12/1996. )Pour une sortie de l’UE un CITES d’export sera n
 écessaire celuici étant à la charge du futur acquéreur
DTSTART;VALUE=DATE:20121210
END:VEVENT
END:VCALENDAR
