BEGIN:VCALENDAR
PRODID:-//eluceo/ical//2.0/EN
VERSION:2.0
CALSCALE:GREGORIAN
BEGIN:VEVENT
UID:3111f3215bdc982a8507ad2e08db5adc
DTSTAMP:20260423T154044Z
SUMMARY:guy-laroche - Date de vente : 10/12/2012
DESCRIPTION:Nom du lots : Guy LAROCHE\n\nHaute couture circa 1958 Ample man
 teau en tweed chiné marron encolure ronde sous écharpe\, parementures sa
 ns boutonnage\, manches longues à emmanchures basses\, deux poches biais\
 , se porte sur une jupe à taille foncée à l’identique et une blouse d
 e satin champagne. Griffe blanche\, graphisme noir sur le manteau
DTSTART;VALUE=DATE:20121210
END:VEVENT
END:VCALENDAR
