BEGIN:VCALENDAR
PRODID:-//eluceo/ical//2.0/EN
VERSION:2.0
CALSCALE:GREGORIAN
BEGIN:VEVENT
UID:bb2e139bc52adb53c1f87bacb41e08b4
DTSTAMP:20260423T154223Z
SUMMARY:emanuel-ungaro - Date de vente : 10/12/2012
DESCRIPTION:Nom du lots : Emanuel UNGARO\n\nHaute couture\, n°096\, circa 
 octobre 1965 Manteau de forme trapèze en drap de laine orange\, encolure 
 montante sur un petit décolleté carré\, épaule à effet de découpe et
  surpiqûre\, double boutonnage\, poches dans les coutures\, manches longu
 es\, martingalle au dos\; se porte avec une robe à col montant dégueulan
 t en toile de laine écrue\, emmanchure américaine\, effet de panneaux é
 vasés avec rappel du double boutonnage. (doublure en l’état)
DTSTART;VALUE=DATE:20121210
END:VEVENT
END:VCALENDAR
