BEGIN:VCALENDAR
PRODID:-//eluceo/ical//2.0/EN
VERSION:2.0
CALSCALE:GREGORIAN
BEGIN:VEVENT
UID:c66a94bc71eeca590869984725334d0d
DTSTAMP:20260423T154324Z
SUMMARY:louis-vuitton - Date de vente : 10/12/2012
DESCRIPTION:Nom du lots : Louis VUITTON\n\nVanity en cuir monogram vernis f
 ramboise\, intérieur en vuittonite lavable beige\, fermeture éclair\, po
 ignée cuir. Dimensions 28 x 18 x 19 cm
DTSTART;VALUE=DATE:20121210
END:VEVENT
END:VCALENDAR
