BEGIN:VCALENDAR
PRODID:-//eluceo/ical//2.0/EN
VERSION:2.0
CALSCALE:GREGORIAN
BEGIN:VEVENT
UID:32f29c5925148d946fe8c326c2844118
DTSTAMP:20260423T154032Z
SUMMARY:lanvin - Date de vente : 10/12/2012
DESCRIPTION:Nom du lots : LANVIN\n\nPendentif croix orné de cabochons bord
 eaux\, noirs\, monté sur un boudin de fils également noirs. Signé
DTSTART;VALUE=DATE:20121210
END:VEVENT
END:VCALENDAR
