BEGIN:VCALENDAR
PRODID:-//eluceo/ical//2.0/EN
VERSION:2.0
CALSCALE:GREGORIAN
BEGIN:VEVENT
UID:3fc76ea7eecc642879538f1d0a933025
DTSTAMP:20260423T153952Z
SUMMARY:prada - Date de vente : 10/12/2012
DESCRIPTION:Nom du lots : PRADA\n\nSac en cuir de Russie noir et vison Koï
 nor\, surpiqûres or\, fermoir aimanté sous rabat orné d’une plaque si
 glé de laiton doré\, anse chaine amovible à maillons en métal gravé e
 t cuir
DTSTART;VALUE=DATE:20121210
END:VEVENT
END:VCALENDAR
