BEGIN:VCALENDAR
PRODID:-//eluceo/ical//2.0/EN
VERSION:2.0
CALSCALE:GREGORIAN
BEGIN:VEVENT
UID:9cb94ed4e3255a2fa55f827d8ded80de
DTSTAMP:20260423T154544Z
SUMMARY:louis-vuitton-par-richard-prince - Date de vente : 10/12/2012
DESCRIPTION:Nom du lots : Louis VUITTON par Richard Prince\n\nSac Mancrazy 
 29cm en toile monogram d’inspiration de la toile au pochoir en dégradé
  à dominante chaudron\, marron\, bordeaux gansé de reptile orange\, doub
 le compartiment à fermeture éclair\, devant orné d’une écriture\, at
 taches et double poignée en reptile
DTSTART;VALUE=DATE:20121210
END:VEVENT
END:VCALENDAR
