BEGIN:VCALENDAR
PRODID:-//eluceo/ical//2.0/EN
VERSION:2.0
CALSCALE:GREGORIAN
BEGIN:VEVENT
UID:8eacc0718fb9e9153431574657ade9ab
DTSTAMP:20260423T154502Z
SUMMARY:sonia-rykiel - Date de vente : 10/12/2012
DESCRIPTION:Nom du lots : SONIA RYKIEL\n\nManteau en Zibeline brune de Russ
 ie tricotée\, montée sur intercalaires de cuir tressé\, col parementure
  volanté\, ceinture
DTSTART;VALUE=DATE:20121210
END:VEVENT
END:VCALENDAR
