BEGIN:VCALENDAR
PRODID:-//eluceo/ical//2.0/EN
VERSION:2.0
CALSCALE:GREGORIAN
BEGIN:VEVENT
UID:c91cd0f979fc95e0e2e53e5f197cf963
DTSTAMP:20260423T154330Z
SUMMARY:yves-salomon - Date de vente : 10/12/2012
DESCRIPTION:Nom du lots : Yves SALOMON\n\n9/10 En Vison femelle Saga lustr
 é\, travail horizontal\, petit col simple boutonnage
DTSTART;VALUE=DATE:20121210
END:VEVENT
END:VCALENDAR
