BEGIN:VCALENDAR
PRODID:-//eluceo/ical//2.0/EN
VERSION:2.0
CALSCALE:GREGORIAN
BEGIN:VEVENT
UID:3e65fcbd90d1c8010735dadeca6ae4cc
DTSTAMP:20260423T154053Z
SUMMARY:fischelis - Date de vente : 10/12/2012
DESCRIPTION:Nom du lots : FISCHELIS\n\nVeste en Zibeline brune de Russie tr
 icotée\, petit col\, simple boutonnage à quatre boutons\, deux poches à
  l’horizontal
DTSTART;VALUE=DATE:20121210
END:VEVENT
END:VCALENDAR
