BEGIN:VCALENDAR
PRODID:-//eluceo/ical//2.0/EN
VERSION:2.0
CALSCALE:GREGORIAN
BEGIN:VEVENT
UID:4d7c6f652ae6cdf7666761ebe0604ee0
DTSTAMP:20260423T154136Z
SUMMARY:gucci - Date de vente : 10/12/2012
DESCRIPTION:Nom du lots : GUCCI\n\nCeinture en métal doré\, formant des p
 laques émaillées chaudron\, rehaussées du sigle\, entre-coupée d’ann
 eaux godronnés. Signée
DTSTART;VALUE=DATE:20121210
END:VEVENT
END:VCALENDAR
