BEGIN:VCALENDAR
PRODID:-//eluceo/ical//2.0/EN
VERSION:2.0
CALSCALE:GREGORIAN
BEGIN:VEVENT
UID:5cff9152d4ade53d496a5848d56ac9ac
DTSTAMP:20260423T174004Z
SUMMARY:goyard - Date de vente : 10/12/2012
DESCRIPTION:Nom du lots : GOYARD\n\nValise à chaussures en toile imprimé 
 au pochoir chiffré H.P\, bordures en fibre vulcanisées\, fermetures et r
 enforts en laiton doré\, double poignée cuir\, intérieur doublé de toi
 le à carreaux sur fond beige compartimenté en six housses (manques) Dime
 nsions 54x31x20 cm
DTSTART;VALUE=DATE:20121210
END:VEVENT
END:VCALENDAR
