BEGIN:VCALENDAR
PRODID:-//eluceo/ical//2.0/EN
VERSION:2.0
CALSCALE:GREGORIAN
BEGIN:VEVENT
UID:b676a6b202c8b7e83881c238528006d4
DTSTAMP:20260423T173940Z
SUMMARY:frimousse - Date de vente : 10/12/2012
DESCRIPTION:Nom du lots : FRIMOUSSE\n\n«Etoile» réalisé par Emanuel UNG
 ARO en 2010 pour l’Unicef
DTSTART;VALUE=DATE:20121210
END:VEVENT
END:VCALENDAR
