BEGIN:VCALENDAR
PRODID:-//eluceo/ical//2.0/EN
VERSION:2.0
CALSCALE:GREGORIAN
BEGIN:VEVENT
UID:b90e1624e8098fcf7dce1820c0dbd9ef
DTSTAMP:20260423T173934Z
SUMMARY:celine - Date de vente : 10/12/2012
DESCRIPTION:Nom du lots : CELINE\n\nSac Squarre mouth toile siglée marron 
 et cuir naturel\, fermeture métal doré\, double poignée\, sangle ceintu
 re\, clef. (Tâche sur le cuir\, usure coin). Bon état
DTSTART;VALUE=DATE:20121210
END:VEVENT
END:VCALENDAR
