BEGIN:VCALENDAR
PRODID:-//eluceo/ical//2.0/EN
VERSION:2.0
CALSCALE:GREGORIAN
BEGIN:VEVENT
UID:c76e3e340ba331c5cb755d6d0954cdce
DTSTAMP:20260423T174343Z
SUMMARY:frimousse-n3-ralis-par-sonia-rykiel-en - Date de vente : 10/12/2012
DESCRIPTION:Nom du lots : FRIMOUSSE N°3 Réalisé par Sonia RYKIEL en...\n
 \nFRIMOUSSE N°3 Réalisé par Sonia RYKIEL en 2009 pour l’Unicef
DTSTART;VALUE=DATE:20121210
END:VEVENT
END:VCALENDAR
