BEGIN:VCALENDAR
PRODID:-//eluceo/ical//2.0/EN
VERSION:2.0
CALSCALE:GREGORIAN
BEGIN:VEVENT
UID:48c69ede097e5aac8a94df5333ad6f68
DTSTAMP:20260423T174022Z
SUMMARY:hermes-paris - Date de vente : 27/05/2008
DESCRIPTION:Nom du lots : HERMES Paris\n\n*Sac «Kelly» 29 cm en crocodile
  chocolat\, attaches et fermoir plaqué or\, poignée\, clefs et cadenas. 
 Très bon état.
DTSTART;VALUE=DATE:20080527
END:VEVENT
END:VCALENDAR
