BEGIN:VCALENDAR
PRODID:-//eluceo/ical//2.0/EN
VERSION:2.0
CALSCALE:GREGORIAN
BEGIN:VEVENT
UID:31136a6048f26c673688838f25edfb5e
DTSTAMP:20260423T174323Z
SUMMARY:herms-paris-made-in-france - Date de vente : 27/05/2008
DESCRIPTION:Nom du lots : HERMÈS Paris made in France\n\nsérie limitée n
 °16/75 2003 *Exceptionnelle montre d’Homme en platine «dressage» \, m
 ouvement P1928 mécanique à remontage automatique\, cadran nacré\, chiff
 res arabes\, dateur à 3 heures\, boucle déployante en or gris sur bracel
 et en crocodile noir\, est présenté dans un coffret en cuir marron\, reh
 ausse d’une surpiqûre blanche figurant un H. Le coffret de présentatio
 n de la montre à un tiroir dans lequel se trouve un humidificateur et un 
 hygromètre. L’ensemble est inséré dans un coffret à cigares en bois 
 des îles\, intérieur en cèdre\, clef. L’ensemble a été réalisé po
 ur le 75ème anniversaire de la montre Hermès
DTSTART;VALUE=DATE:20080527
END:VEVENT
END:VCALENDAR
