BEGIN:VCALENDAR
PRODID:-//eluceo/ical//2.0/EN
VERSION:2.0
CALSCALE:GREGORIAN
BEGIN:VEVENT
UID:c0b24e6dabb1aba6437e674f9770468d
DTSTAMP:20260422T142547Z
SUMMARY:une-robe-et-sa-ceinture-en-laine-de-couleur - Date de vente : 28/10
 /2013
DESCRIPTION:Nom du lots : Une robe et sa ceinture en laine de couleur...\n\
 nUne robe et sa ceinture en laine de couleur vert pomme. COURREGES Paris C
 outure Future vers 1976
DTSTART;VALUE=DATE:20131028
END:VEVENT
END:VCALENDAR
