BEGIN:VCALENDAR
PRODID:-//eluceo/ical//2.0/EN
VERSION:2.0
CALSCALE:GREGORIAN
BEGIN:VEVENT
UID:f370b0fc441b7ab69a3fcb39f95d7428
DTSTAMP:20260422T142212Z
SUMMARY:robe-en-dentelle-et-soie-marron-griffe - Date de vente : 28/10/2013
DESCRIPTION:Nom du lots : Robe en dentelle et soie marron\, griffée...\n\n
 Robe en dentelle et soie marron\, griffée Jean PATOU vers 1930 (Petite au
 réole au col)
DTSTART;VALUE=DATE:20131028
END:VEVENT
END:VCALENDAR
