BEGIN:VCALENDAR
PRODID:-//eluceo/ical//2.0/EN
VERSION:2.0
CALSCALE:GREGORIAN
BEGIN:VEVENT
UID:a8180886a84ee747f45298daa02d3f77
DTSTAMP:20260422T142410Z
SUMMARY:robe-du-soir-en-crpe-rose-avec-franges-et - Date de vente : 28/10/2
 013
DESCRIPTION:Nom du lots : Robe du soir en crêpe rose avec franges et...\n\
 nRobe du soir en crêpe rose avec franges et ceinture drapée\, griffée W
 ORTH vers 1930 (acc.)
DTSTART;VALUE=DATE:20131028
END:VEVENT
END:VCALENDAR
