BEGIN:VCALENDAR
PRODID:-//eluceo/ical//2.0/EN
VERSION:2.0
CALSCALE:GREGORIAN
BEGIN:VEVENT
UID:f2854bd46dc337cf3fd44fa8c4ea90ec
DTSTAMP:20260422T142548Z
SUMMARY:manteau-crois-manches-longues-en-bourettes - Date de vente : 28/10/
 2013
DESCRIPTION:Nom du lots : Manteau croisé à manches longues en bourettes..
 .\n\nManteau croisé à manches longues en bourettes de soie ivoire\, grif
 fé Christian Dior\, pour Joste
DTSTART;VALUE=DATE:20131028
END:VEVENT
END:VCALENDAR
