BEGIN:VCALENDAR
PRODID:-//eluceo/ical//2.0/EN
VERSION:2.0
CALSCALE:GREGORIAN
BEGIN:VEVENT
UID:62f7ec3cb2485c7d3c96bedc78d9ac70
DTSTAMP:20260422T142453Z
SUMMARY:robe-du-soir-manches-courtes-en-tulle-paillet - Date de vente : 28/
 10/2013
DESCRIPTION:Nom du lots : Robe du Soir à manches courtes en tulle paillet
 é...\n\nRobe du Soir à manches courtes en tulle pailleté noir. Vers 191
 5. Griffé Worth. Avec une surjupe vollantée à paillette
DTSTART;VALUE=DATE:20131028
END:VEVENT
END:VCALENDAR
